Package: MBttest Version: 1.38.0 Command: /home/biocbuild/bbs-3.22-bioc/R/bin/R CMD INSTALL MBttest StartedAt: 2025-11-06 15:03:11 -0500 (Thu, 06 Nov 2025) EndedAt: 2025-11-06 15:03:24 -0500 (Thu, 06 Nov 2025) EllapsedTime: 13.3 seconds RetCode: 0 Status: OK