Package: MBCB Version: 1.64.0 Command: /home/biocbuild/bbs-3.22-bioc/R/bin/R CMD INSTALL MBCB StartedAt: 2025-11-10 15:16:26 -0500 (Mon, 10 Nov 2025) EndedAt: 2025-11-10 15:16:29 -0500 (Mon, 10 Nov 2025) EllapsedTime: 2.8 seconds RetCode: 0 Status: OK