Package: MBCB Version: 1.64.0 Command: /home/biocbuild/bbs-3.22-bioc/R/bin/R CMD build --keep-empty-dirs --no-resave-data --md5 MBCB StartedAt: 2025-11-10 18:34:53 -0500 (Mon, 10 Nov 2025) EndedAt: 2025-11-10 18:35:00 -0500 (Mon, 10 Nov 2025) EllapsedTime: 7.0 seconds RetCode: 0 Status: OK PackageFile: MBCB_1.64.0.tar.gz PackageFileSize: 411.1 KiB