Package: MBAmethyl Version: 1.44.0 Command: /home/biocbuild/bbs-3.22-bioc/R/bin/R CMD build --keep-empty-dirs --no-resave-data --md5 MBAmethyl StartedAt: 2025-11-17 21:51:34 -0500 (Mon, 17 Nov 2025) EndedAt: 2025-11-17 21:51:45 -0500 (Mon, 17 Nov 2025) EllapsedTime: 11.0 seconds RetCode: 0 Status: OK PackageFile: MBAmethyl_1.44.0.tar.gz PackageFileSize: 88.32 KiB