Package: MBASED Version: 1.44.0 Command: /home/biocbuild/bbs-3.22-bioc/R/bin/R CMD INSTALL MBASED StartedAt: 2025-11-17 17:41:56 -0500 (Mon, 17 Nov 2025) EndedAt: 2025-11-17 17:42:18 -0500 (Mon, 17 Nov 2025) EllapsedTime: 22.4 seconds RetCode: 0 Status: OK