Package: MAST Version: 1.36.0 Command: /home/biocbuild/bbs-3.22-bioc/R/bin/R CMD INSTALL MAST StartedAt: 2025-11-14 15:21:17 -0500 (Fri, 14 Nov 2025) EndedAt: 2025-11-14 15:22:01 -0500 (Fri, 14 Nov 2025) EllapsedTime: 43.8 seconds RetCode: 0 Status: OK