Package: MAST Version: 1.36.0 Command: /home/biocbuild/bbs-3.22-bioc/R/bin/R CMD build --keep-empty-dirs --no-resave-data --md5 MAST StartedAt: 2025-11-14 18:31:30 -0500 (Fri, 14 Nov 2025) EndedAt: 2025-11-14 18:35:51 -0500 (Fri, 14 Nov 2025) EllapsedTime: 261.2 seconds RetCode: 0 Status: OK PackageFile: MAST_1.36.0.tar.gz PackageFileSize: 7.259 MiB