Package: MANOR Version: 1.82.0 Command: /home/biocbuild/bbs-3.22-bioc/R/bin/R CMD INSTALL MANOR StartedAt: 2025-11-16 15:03:43 -0500 (Sun, 16 Nov 2025) EndedAt: 2025-11-16 15:03:53 -0500 (Sun, 16 Nov 2025) EllapsedTime: 10.5 seconds RetCode: 0 Status: OK