Package: MAIT Version: 1.44.0 Command: /home/biocbuild/bbs-3.22-bioc/R/bin/R CMD INSTALL MAIT StartedAt: 2025-11-25 16:09:49 -0500 (Tue, 25 Nov 2025) EndedAt: 2025-11-25 16:10:41 -0500 (Tue, 25 Nov 2025) EllapsedTime: 52.9 seconds RetCode: 0 Status: OK