Package: MAIT Version: 1.44.0 Command: /home/biocbuild/bbs-3.22-bioc/R/bin/R CMD build --keep-empty-dirs --no-resave-data --md5 MAIT StartedAt: 2025-11-25 18:54:20 -0500 (Tue, 25 Nov 2025) EndedAt: 2025-11-25 18:57:07 -0500 (Tue, 25 Nov 2025) EllapsedTime: 167.2 seconds RetCode: 0 Status: OK PackageFile: MAIT_1.44.0.tar.gz PackageFileSize: 2.37 MiB