Package: MADSEQ Version: 1.36.0 Command: /home/biocbuild/bbs-3.22-bioc/R/bin/R CMD INSTALL MADSEQ StartedAt: 2025-11-17 18:26:37 -0500 (Mon, 17 Nov 2025) EndedAt: 2025-11-17 18:26:38 -0500 (Mon, 17 Nov 2025) EllapsedTime: 0.2 seconds RetCode: 1 Status: ERROR