Package: MADSEQ Version: 1.36.0 Command: /home/biocbuild/bbs-3.22-bioc/R/bin/R CMD build --keep-empty-dirs --no-resave-data --md5 MADSEQ StartedAt: 2025-11-17 21:48:13 -0500 (Mon, 17 Nov 2025) EndedAt: 2025-11-17 21:48:15 -0500 (Mon, 17 Nov 2025) EllapsedTime: 2.0 seconds RetCode: 1 Status: ERROR PackageFile: None PackageFileSize: NA