Package: MACSQuantifyR Version: 1.24.0 Command: /Library/Frameworks/R.framework/Resources/bin/R CMD INSTALL MACSQuantifyR StartedAt: 2025-11-03 15:17:50 -0500 (Mon, 03 Nov 2025) EndedAt: 2025-11-03 15:18:21 -0500 (Mon, 03 Nov 2025) EllapsedTime: 31.2 seconds RetCode: 0 Status: OK