Package: MACSQuantifyR Version: 1.24.0 Command: /Library/Frameworks/R.framework/Resources/bin/R CMD build --keep-empty-dirs --no-resave-data MACSQuantifyR StartedAt: 2025-11-03 17:35:09 -0500 (Mon, 03 Nov 2025) EndedAt: 2025-11-03 17:35:44 -0500 (Mon, 03 Nov 2025) EllapsedTime: 34.3 seconds RetCode: 0 Status: OK PackageFile: MACSQuantifyR_1.24.0.tar.gz PackageFileSize: 4.417 MiB