Package: MACSQuantifyR Version: 1.24.0 Command: rm -rf MACSQuantifyR.buildbin-libdir && mkdir MACSQuantifyR.buildbin-libdir && /Users/biocbuild/BBS/utils/build-universal.sh MACSQuantifyR_1.24.0.tar.gz /Library/Frameworks/R.framework/Resources/bin/R MACSQuantifyR.buildbin-libdir StartedAt: 2025-11-04 01:47:41 -0500 (Tue, 04 Nov 2025) EndedAt: 2025-11-04 01:47:54 -0500 (Tue, 04 Nov 2025) EllapsedTime: 12.9 seconds RetCode: 0 Status: OK PackageFile: MACSQuantifyR_1.24.0.tgz PackageFileSize: 4.466 MiB