Package: MACSQuantifyR Version: 1.24.0 Command: /Library/Frameworks/R.framework/Resources/bin/R CMD INSTALL MACSQuantifyR StartedAt: 2025-10-31 15:09:59 -0400 (Fri, 31 Oct 2025) EndedAt: 2025-10-31 15:10:05 -0400 (Fri, 31 Oct 2025) EllapsedTime: 6.1 seconds RetCode: 0 Status: OK