Package: MACSQuantifyR Version: 1.24.0 Command: /Library/Frameworks/R.framework/Resources/bin/R CMD build --keep-empty-dirs --no-resave-data MACSQuantifyR StartedAt: 2025-11-02 16:51:46 -0500 (Sun, 02 Nov 2025) EndedAt: 2025-11-02 16:51:58 -0500 (Sun, 02 Nov 2025) EllapsedTime: 11.1 seconds RetCode: 0 Status: OK PackageFile: MACSQuantifyR_1.24.0.tar.gz PackageFileSize: 4.417 MiB