Package: MACSQuantifyR Version: 1.24.0 Command: rm -rf MACSQuantifyR.buildbin-libdir && mkdir MACSQuantifyR.buildbin-libdir && /Users/biocbuild/BBS/utils/build-universal.sh MACSQuantifyR_1.24.0.tar.gz /Library/Frameworks/R.framework/Resources/bin/R MACSQuantifyR.buildbin-libdir StartedAt: 2025-10-31 23:12:16 -0400 (Fri, 31 Oct 2025) EndedAt: 2025-10-31 23:12:21 -0400 (Fri, 31 Oct 2025) EllapsedTime: 4.1 seconds RetCode: 0 Status: OK PackageFile: MACSQuantifyR_1.24.0.tgz PackageFileSize: 4.467 MiB