Package: MACSQuantifyR Version: 1.24.0 Command: /Library/Frameworks/R.framework/Resources/bin/R CMD INSTALL MACSQuantifyR StartedAt: 2025-11-17 17:08:57 -0500 (Mon, 17 Nov 2025) EndedAt: 2025-11-17 17:09:00 -0500 (Mon, 17 Nov 2025) EllapsedTime: 3.2 seconds RetCode: 0 Status: OK