Package: MACSQuantifyR Version: 1.24.0 Command: /Library/Frameworks/R.framework/Resources/bin/R CMD build --keep-empty-dirs --no-resave-data MACSQuantifyR StartedAt: 2025-11-17 22:25:45 -0500 (Mon, 17 Nov 2025) EndedAt: 2025-11-17 22:25:55 -0500 (Mon, 17 Nov 2025) EllapsedTime: 10.1 seconds RetCode: 0 Status: OK PackageFile: MACSQuantifyR_1.24.0.tar.gz PackageFileSize: 4.418 MiB