Package: M3Drop Version: 1.36.0 Command: /home/biocbuild/bbs-3.22-bioc/R/bin/R CMD build --keep-empty-dirs --no-resave-data --md5 M3Drop StartedAt: 2025-11-06 18:24:28 -0500 (Thu, 06 Nov 2025) EndedAt: 2025-11-06 18:26:16 -0500 (Thu, 06 Nov 2025) EllapsedTime: 108.1 seconds RetCode: 0 Status: OK PackageFile: M3Drop_1.36.0.tar.gz PackageFileSize: 12.25 MiB