Package: M3C Version: 1.31.0 Command: /home/biocbuild/bbs-3.22-bioc/R/bin/R CMD build --keep-empty-dirs --no-resave-data --md5 M3C StartedAt: 2025-10-24 18:34:08 -0400 (Fri, 24 Oct 2025) EndedAt: 2025-10-24 18:34:58 -0400 (Fri, 24 Oct 2025) EllapsedTime: 50.1 seconds RetCode: 0 Status: OK PackageFile: M3C_1.31.0.tar.gz PackageFileSize: 591.3 KiB