Package: M3C Version: 1.32.0 Command: /Library/Frameworks/R.framework/Resources/bin/R CMD build --keep-empty-dirs --no-resave-data M3C StartedAt: 2025-11-10 16:51:59 -0500 (Mon, 10 Nov 2025) EndedAt: 2025-11-10 16:52:21 -0500 (Mon, 10 Nov 2025) EllapsedTime: 22.3 seconds RetCode: 0 Status: OK PackageFile: M3C_1.32.0.tar.gz PackageFileSize: 589.4 KiB