Package: M3C Version: 1.32.0 Command: rm -rf M3C.buildbin-libdir && mkdir M3C.buildbin-libdir && /Users/biocbuild/BBS/utils/build-universal.sh M3C_1.32.0.tar.gz /Library/Frameworks/R.framework/Resources/bin/R M3C.buildbin-libdir StartedAt: 2025-11-10 23:25:15 -0500 (Mon, 10 Nov 2025) EndedAt: 2025-11-10 23:25:19 -0500 (Mon, 10 Nov 2025) EllapsedTime: 4.1 seconds RetCode: 0 Status: OK PackageFile: M3C_1.32.0.tgz PackageFileSize: 759.1 KiB