Package: LoomExperiment Version: 1.28.0 Command: /home/biocbuild/bbs-3.22-bioc/R/bin/R CMD build --keep-empty-dirs --no-resave-data --md5 LoomExperiment StartedAt: 2025-11-17 21:46:36 -0500 (Mon, 17 Nov 2025) EndedAt: 2025-11-17 21:47:17 -0500 (Mon, 17 Nov 2025) EllapsedTime: 41.0 seconds RetCode: 0 Status: OK PackageFile: LoomExperiment_1.28.0.tar.gz PackageFileSize: 253.7 KiB