Package: Linnorm Version: 2.34.0 Command: /home/biocbuild/bbs-3.22-bioc/R/bin/R CMD INSTALL Linnorm StartedAt: 2025-11-20 16:01:05 -0500 (Thu, 20 Nov 2025) EndedAt: 2025-11-20 16:01:28 -0500 (Thu, 20 Nov 2025) EllapsedTime: 22.9 seconds RetCode: 0 Status: OK