Package: Linnorm Version: 2.34.0 Command: /home/biocbuild/bbs-3.22-bioc/R/bin/R CMD build --keep-empty-dirs --no-resave-data --md5 Linnorm StartedAt: 2025-11-20 19:12:47 -0500 (Thu, 20 Nov 2025) EndedAt: 2025-11-20 19:16:40 -0500 (Thu, 20 Nov 2025) EllapsedTime: 233.3 seconds RetCode: 0 Status: OK PackageFile: Linnorm_2.34.0.tar.gz PackageFileSize: 4.111 MiB