Package: LinTInd Version: 1.13.1 Command: /home/biocbuild/bbs-3.22-bioc/R/bin/R CMD INSTALL LinTInd StartedAt: 2025-10-24 16:01:43 -0400 (Fri, 24 Oct 2025) EndedAt: 2025-10-24 16:02:01 -0400 (Fri, 24 Oct 2025) EllapsedTime: 17.6 seconds RetCode: 0 Status: OK