Package: LimROTS Version: 1.2.2 Command: /home/biocbuild/bbs-3.22-bioc/R/bin/R CMD INSTALL LimROTS StartedAt: 2025-11-25 16:20:42 -0500 (Tue, 25 Nov 2025) EndedAt: 2025-11-25 16:21:08 -0500 (Tue, 25 Nov 2025) EllapsedTime: 26.1 seconds RetCode: 0 Status: OK