Package: LimROTS Version: 1.2.2 Command: /home/biocbuild/bbs-3.22-bioc/R/bin/R CMD build --keep-empty-dirs --no-resave-data --md5 LimROTS StartedAt: 2025-11-25 18:50:33 -0500 (Tue, 25 Nov 2025) EndedAt: 2025-11-25 18:51:48 -0500 (Tue, 25 Nov 2025) EllapsedTime: 75.1 seconds RetCode: 0 Status: OK PackageFile: LimROTS_1.2.2.tar.gz PackageFileSize: 768.2 KiB