Package: LRcell Version: 1.17.0 Command: /home/biocbuild/bbs-3.22-bioc/R/bin/R CMD INSTALL LRcell StartedAt: 2025-10-24 15:45:46 -0400 (Fri, 24 Oct 2025) EndedAt: 2025-10-24 15:46:03 -0400 (Fri, 24 Oct 2025) EllapsedTime: 16.7 seconds RetCode: 0 Status: OK