Package: LRBaseDbi Version: 2.20.0 Command: /Library/Frameworks/R.framework/Resources/bin/R CMD build --keep-empty-dirs --no-resave-data LRBaseDbi StartedAt: 2025-11-10 16:51:47 -0500 (Mon, 10 Nov 2025) EndedAt: 2025-11-10 16:51:59 -0500 (Mon, 10 Nov 2025) EllapsedTime: 12.1 seconds RetCode: 0 Status: OK PackageFile: LRBaseDbi_2.20.0.tar.gz PackageFileSize: 145.9 KiB