Back to Build/check report for BioC 3.22:   simplified   long
ABCDEFGHIJK[L]MNOPQRSTUVWXYZ

This page was generated on 2025-10-27 12:45 -0400 (Mon, 27 Oct 2025).

HostnameOSArch (*)R versionInstalled pkgs
kjohnson3macOS 13.7.7 Venturaarm644.5.1 Patched (2025-09-10 r88807) -- "Great Square Root" 4637
Click on any hostname to see more info about the system (e.g. compilers)      (*) as reported by 'uname -p', except on Windows and Mac OS X

All results for package LRBaseDbi


To the developers/maintainers of the LRBaseDbi package:
- Allow up to 24 hours (and sometimes 48 hours) for your latest push to git@git.bioconductor.org:packages/LRBaseDbi.git to reflect on this report. See Troubleshooting Build Report for more information.
- Use the following Renviron settings to reproduce errors and warnings.
- If 'R CMD check' started to fail recently on the Linux builder(s) over a missing dependency, add the missing dependency to 'Suggests:' in your DESCRIPTION file. See Renviron.bioc for more information.

raw results

Package 1161/2361HostnameOS / ArchINSTALLBUILDCHECKBUILD BIN
LRBaseDbi 2.19.1  (landing page)
Koki Tsuyuzaki
Snapshot Date: 2025-10-26 13:45 -0400 (Sun, 26 Oct 2025)
git_url: https://git.bioconductor.org/packages/LRBaseDbi
git_branch: devel
git_last_commit: 0ecd059
git_last_commit_date: 2025-05-23 09:44:00 -0400 (Fri, 23 May 2025)
kjohnson3macOS 13.7.7 Ventura / arm64  OK    ERROR  skippedskipped