Package: LOLA Version: 1.40.0 Command: /home/biocbuild/bbs-3.22-bioc/R/bin/R CMD INSTALL LOLA StartedAt: 2025-11-17 17:22:44 -0500 (Mon, 17 Nov 2025) EndedAt: 2025-11-17 17:22:53 -0500 (Mon, 17 Nov 2025) EllapsedTime: 9.7 seconds RetCode: 0 Status: OK