Package: LOBSTAHS Version: 1.36.0 Command: /home/biocbuild/bbs-3.22-bioc/R/bin/R CMD INSTALL LOBSTAHS StartedAt: 2025-11-13 15:51:39 -0500 (Thu, 13 Nov 2025) EndedAt: 2025-11-13 15:52:30 -0500 (Thu, 13 Nov 2025) EllapsedTime: 51.3 seconds RetCode: 0 Status: OK