Package: LOBSTAHS Version: 1.36.0 Command: /home/biocbuild/bbs-3.22-bioc/R/bin/R CMD build --keep-empty-dirs --no-resave-data --md5 LOBSTAHS StartedAt: 2025-11-13 18:27:24 -0500 (Thu, 13 Nov 2025) EndedAt: 2025-11-13 18:28:30 -0500 (Thu, 13 Nov 2025) EllapsedTime: 66.1 seconds RetCode: 0 Status: OK PackageFile: LOBSTAHS_1.36.0.tar.gz PackageFileSize: 2.904 MiB