Package: LACE Version: 2.14.0 Command: /home/biocbuild/bbs-3.22-bioc/R/bin/R CMD INSTALL LACE StartedAt: 2025-11-16 15:27:32 -0500 (Sun, 16 Nov 2025) EndedAt: 2025-11-16 15:28:09 -0500 (Sun, 16 Nov 2025) EllapsedTime: 36.4 seconds RetCode: 0 Status: OK