Package: LACE Version: 2.14.0 Command: /home/biocbuild/bbs-3.22-bioc/R/bin/R CMD build --keep-empty-dirs --no-resave-data --md5 LACE StartedAt: 2025-11-16 18:28:48 -0500 (Sun, 16 Nov 2025) EndedAt: 2025-11-16 18:29:40 -0500 (Sun, 16 Nov 2025) EllapsedTime: 52.1 seconds RetCode: 0 Status: OK PackageFile: LACE_2.14.0.tar.gz PackageFileSize: 4.079 MiB