Package: KnowSeq Version: 1.23.0 Command: /home/biocbuild/bbs-3.22-bioc/R/bin/R CMD INSTALL KnowSeq StartedAt: 2025-10-27 15:31:50 -0400 (Mon, 27 Oct 2025) EndedAt: 2025-10-27 15:32:21 -0400 (Mon, 27 Oct 2025) EllapsedTime: 31.0 seconds RetCode: 0 Status: OK