Package: KnowSeq Version: 1.24.0 Command: rm -rf KnowSeq.buildbin-libdir && mkdir KnowSeq.buildbin-libdir && /Users/biocbuild/BBS/utils/build-universal.sh KnowSeq_1.24.0.tar.gz /Library/Frameworks/R.framework/Resources/bin/R KnowSeq.buildbin-libdir StartedAt: 2025-11-04 01:46:57 -0500 (Tue, 04 Nov 2025) EndedAt: 2025-11-04 01:47:44 -0500 (Tue, 04 Nov 2025) EllapsedTime: 47.4 seconds RetCode: 0 Status: OK PackageFile: KnowSeq_1.24.0.tgz PackageFileSize: 6.578 MiB