Package: KnowSeq Version: 1.24.0 Command: /Library/Frameworks/R.framework/Resources/bin/R CMD INSTALL KnowSeq StartedAt: 2025-11-06 15:09:54 -0500 (Thu, 06 Nov 2025) EndedAt: 2025-11-06 15:10:06 -0500 (Thu, 06 Nov 2025) EllapsedTime: 12.8 seconds RetCode: 0 Status: OK