Package: KnowSeq Version: 1.24.0 Command: /Library/Frameworks/R.framework/Resources/bin/R CMD build --keep-empty-dirs --no-resave-data KnowSeq StartedAt: 2025-11-06 16:49:51 -0500 (Thu, 06 Nov 2025) EndedAt: 2025-11-06 16:51:19 -0500 (Thu, 06 Nov 2025) EllapsedTime: 87.1 seconds RetCode: 0 Status: OK PackageFile: KnowSeq_1.24.0.tar.gz PackageFileSize: 8.266 MiB