Package: KnowSeq Version: 1.24.0 Command: rm -rf KnowSeq.buildbin-libdir && mkdir KnowSeq.buildbin-libdir && /Users/biocbuild/BBS/utils/build-universal.sh KnowSeq_1.24.0.tar.gz /Library/Frameworks/R.framework/Resources/bin/R KnowSeq.buildbin-libdir StartedAt: 2025-11-06 23:09:43 -0500 (Thu, 06 Nov 2025) EndedAt: 2025-11-06 23:09:57 -0500 (Thu, 06 Nov 2025) EllapsedTime: 14.3 seconds RetCode: 0 Status: OK PackageFile: KnowSeq_1.24.0.tgz PackageFileSize: 6.599 MiB