Package: KinSwingR Version: 1.28.0 Command: /Library/Frameworks/R.framework/Resources/bin/R CMD INSTALL KinSwingR StartedAt: 2025-11-10 15:03:23 -0500 (Mon, 10 Nov 2025) EndedAt: 2025-11-10 15:03:28 -0500 (Mon, 10 Nov 2025) EllapsedTime: 5.0 seconds RetCode: 0 Status: OK