Package: KinSwingR Version: 1.28.0 Command: /Library/Frameworks/R.framework/Resources/bin/R CMD build --keep-empty-dirs --no-resave-data KinSwingR StartedAt: 2025-11-10 16:50:15 -0500 (Mon, 10 Nov 2025) EndedAt: 2025-11-10 16:50:28 -0500 (Mon, 10 Nov 2025) EllapsedTime: 13.2 seconds RetCode: 0 Status: OK PackageFile: KinSwingR_1.28.0.tar.gz PackageFileSize: 649.9 KiB