Package: KinSwingR Version: 1.28.0 Command: rm -rf KinSwingR.buildbin-libdir && mkdir KinSwingR.buildbin-libdir && /Users/biocbuild/BBS/utils/build-universal.sh KinSwingR_1.28.0.tar.gz /Library/Frameworks/R.framework/Resources/bin/R KinSwingR.buildbin-libdir StartedAt: 2025-11-10 23:24:45 -0500 (Mon, 10 Nov 2025) EndedAt: 2025-11-10 23:24:48 -0500 (Mon, 10 Nov 2025) EllapsedTime: 3.1 seconds RetCode: 0 Status: OK PackageFile: KinSwingR_1.28.0.tgz PackageFileSize: 696.7 KiB