Package: KEGGgraph Version: 1.70.0 Command: /home/biocbuild/bbs-3.22-bioc/R/bin/R CMD INSTALL KEGGgraph StartedAt: 2025-11-06 15:14:39 -0500 (Thu, 06 Nov 2025) EndedAt: 2025-11-06 15:14:45 -0500 (Thu, 06 Nov 2025) EllapsedTime: 6.2 seconds RetCode: 0 Status: OK