Package: KBoost Version: 1.18.0 Command: /home/biocbuild/bbs-3.22-bioc/R/bin/R CMD INSTALL KBoost StartedAt: 2025-11-06 15:01:40 -0500 (Thu, 06 Nov 2025) EndedAt: 2025-11-06 15:01:45 -0500 (Thu, 06 Nov 2025) EllapsedTime: 5.7 seconds RetCode: 0 Status: OK