Package: KBoost Version: 1.18.0 Command: /home/biocbuild/bbs-3.22-bioc/R/bin/R CMD build --keep-empty-dirs --no-resave-data --md5 KBoost StartedAt: 2025-11-06 18:19:54 -0500 (Thu, 06 Nov 2025) EndedAt: 2025-11-06 18:20:01 -0500 (Thu, 06 Nov 2025) EllapsedTime: 7.0 seconds RetCode: 0 Status: OK PackageFile: KBoost_1.18.0.tar.gz PackageFileSize: 506.3 KiB