Package: IsoformSwitchAnalyzeR Version: 2.9.1 Command: /home/biocbuild/bbs-3.22-bioc/R/bin/R CMD build --keep-empty-dirs --no-resave-data --md5 IsoformSwitchAnalyzeR StartedAt: 2025-10-24 18:28:40 -0400 (Fri, 24 Oct 2025) EndedAt: 2025-10-24 18:31:59 -0400 (Fri, 24 Oct 2025) EllapsedTime: 198.3 seconds RetCode: 0 Status: OK PackageFile: IsoformSwitchAnalyzeR_2.9.1.tar.gz PackageFileSize: 6.463 MiB